BEGIN:VCALENDAR
VERSION:2.0
PRODID:-//eventon.com NONSGML v1.0//EN
CALSCALE:GREGORIAN
METHOD:PUBLISH
BEGIN:VEVENT
UID:69e5fb35c7a9c
DTSTAMP:20260420T100853Z
DTSTART:20220603T010000Z
DTEND:20220606T010000Z
LOCATION:
SUMMARY:Pre-registro a extraordinarios
DESCRIPTION:Pre-registro a extraordinarios\nhttps://academia.lasalle.mx/eve
 nts/pre-registro-a-extraordinarios/
URL:https://academia.lasalle.mx/events/pre-registro-a-extraordinarios/
END:VEVENT
END:VCALENDAR