BEGIN:VCALENDAR
VERSION:2.0
PRODID:-//eventon.com NONSGML v1.0//EN
CALSCALE:GREGORIAN
METHOD:PUBLISH
BEGIN:VEVENT
UID:69e4e994b46c0
DTSTAMP:20260419T144124Z
DTSTART:20220501
DTEND:20220502
LOCATION:
SUMMARY:Registro cursos COIL: 8ª Generación IALU y 3ª Amigos La Salle
DESCRIPTION:Internacionalización Docente\nhttps://academia.lasalle.mx/even
 ts/registro-cursos-coil-8a-generacion-ialu-y-3a-amigos-la-salle/
URL:https://academia.lasalle.mx/events/registro-cursos-coil-8a-generacion-ialu-y-3a-amigos-la-salle/
END:VEVENT
END:VCALENDAR