BEGIN:VCALENDAR
VERSION:2.0
PRODID:-//eventon.com NONSGML v1.0//EN
CALSCALE:GREGORIAN
METHOD:PUBLISH
BEGIN:VEVENT
UID:69e77c6a518a1
DTSTAMP:20260421T133226Z
DTSTART:20210310T170000Z
DTEND:20210310T183000Z
LOCATION:
SUMMARY:2a. reunión de academia bloque ASIGNATURAS teológicas
DESCRIPTION:2a. reunión de academia bloque ASIGNATURAS teológicas\nhttps:
 //academia.lasalle.mx/events/2a-reunion-de-academia-bloque-asignaturas-teol
 ogicas/
URL:https://academia.lasalle.mx/events/2a-reunion-de-academia-bloque-asignaturas-teologicas/
END:VEVENT
END:VCALENDAR